BEGIN:VCALENDAR
VERSION:2.0
PRODID:-//wp-events-plugin.com//7.2.3.1//EN
TZID:Europe/Paris
X-WR-TIMEZONE:Europe/ParisBEGIN:VCALENDAR
VERSION:2.0
PRODID:-//wp-events-plugin.com//7.2.3.1//EN
TZID:Europe/Paris
X-WR-TIMEZONE:Europe/Paris
BEGIN:VEVENT
UID:95@ensemblealauda.fr
DTSTART;TZID=Europe/Paris:20231007T090000
DTEND;TZID=Europe/Paris:20231007T140000
DTSTAMP:20231007T053436Z
URL:https://ensemblealauda.fr/events/repetition-des-3-chorales/
SUMMARY:Répétition des 3 chorales
DESCRIPTION:
CATEGORIES:Répétition
END:VEVENT
BEGIN:VTIMEZONE
TZID:Europe/Paris
X-LIC-LOCATION:Europe/Paris
BEGIN:DAYLIGHT
DTSTART:20230326T030000
TZOFFSETFROM:+0100
TZOFFSETTO:+0200
TZNAME:CEST
END:DAYLIGHT
END:VTIMEZONE
END:VCALENDAR