BEGIN:VCALENDAR
VERSION:2.0
PRODID:-//wp-events-plugin.com//7.2.3.1//EN
TZID:Europe/Paris
X-WR-TIMEZONE:Europe/ParisBEGIN:VCALENDAR
VERSION:2.0
PRODID:-//wp-events-plugin.com//7.2.3.1//EN
TZID:Europe/Paris
X-WR-TIMEZONE:Europe/Paris
BEGIN:VEVENT
UID:102@ensemblealauda.fr
DTSTART;TZID=Europe/Paris:20231129T194500
DTEND;TZID=Europe/Paris:20231129T203000
DTSTAMP:20231123T162644Z
URL:https://ensemblealauda.fr/events/repetition-des-3-chorales-3/
SUMMARY:Répétition des 3 chorales
DESCRIPTION:Magnificat
CATEGORIES:Répétition
LOCATION:Tessallis\, 31 Rue du Stade\, LA TESSOUALLE\, 49280\, France
X-APPLE-STRUCTURED-LOCATION;VALUE=URI;X-ADDRESS=31 Rue du Stade\, LA TESSOU
 ALLE\, 49280\, France;X-APPLE-RADIUS=100;X-TITLE=Tessallis:geo:0,0
END:VEVENT
BEGIN:VTIMEZONE
TZID:Europe/Paris
X-LIC-LOCATION:Europe/Paris
BEGIN:STANDARD
DTSTART:20231029T020000
TZOFFSETFROM:+0200
TZOFFSETTO:+0100
TZNAME:CET
END:STANDARD
END:VTIMEZONE
END:VCALENDAR