BEGIN:VCALENDAR
VERSION:2.0
PRODID:-//wp-events-plugin.com//7.2.3.1//EN
TZID:Europe/Paris
X-WR-TIMEZONE:Europe/ParisBEGIN:VCALENDAR
VERSION:2.0
PRODID:-//wp-events-plugin.com//7.2.3.1//EN
TZID:Europe/Paris
X-WR-TIMEZONE:Europe/Paris
BEGIN:VEVENT
UID:38@ensemblealauda.fr
DTSTART;TZID=Europe/Paris:20200322T153000
DTEND;TZID=Europe/Paris:20200322T173000
DTSTAMP:20220210T082957Z
URL:https://ensemblealauda.fr/events/concert-st-sauveur/
SUMMARY:Concert à Saint Sauveur
DESCRIPTION:Annulé pour covid
CATEGORIES:Concert
LOCATION:Église de Saint-Sauveur-de-Givre-en-Mai\, Église de Saint-Sauveu
 r-de-Givre-en-Mai\, Saint-Sauveur-de-Givre-en-Mai - Bressuire\, 79300\, Fr
 ance
X-APPLE-STRUCTURED-LOCATION;VALUE=URI;X-ADDRESS=Église de Saint-Sauveur-de
 -Givre-en-Mai\, Saint-Sauveur-de-Givre-en-Mai - Bressuire\, 79300\, France
 ;X-APPLE-RADIUS=100;X-TITLE=Église de Saint-Sauveur-de-Givre-en-Mai:geo:0
 ,0
END:VEVENT
BEGIN:VTIMEZONE
TZID:Europe/Paris
X-LIC-LOCATION:Europe/Paris
BEGIN:STANDARD
DTSTART:20191027T020000
TZOFFSETFROM:+0200
TZOFFSETTO:+0100
TZNAME:CET
END:STANDARD
END:VTIMEZONE
END:VCALENDAR