BEGIN:VCALENDAR
VERSION:2.0
PRODID:-//wp-events-plugin.com//7.2.3.1//EN
TZID:Europe/Paris
X-WR-TIMEZONE:Europe/ParisBEGIN:VCALENDAR
VERSION:2.0
PRODID:-//wp-events-plugin.com//7.2.3.1//EN
TZID:Europe/Paris
X-WR-TIMEZONE:Europe/Paris
BEGIN:VEVENT
UID:113@ensemblealauda.fr
DTSTART;TZID=Europe/Paris:20241208T160000
DTEND;TZID=Europe/Paris:20241208T170000
DTSTAMP:20250906T153037Z
URL:https://ensemblealauda.fr/events/concert-de-noel-saint-jouin/
SUMMARY:Concert de Noël à Saint-Jouin
DESCRIPTION:\n\n\n\nNous vous invitons à plonger dans l'atmosphère féér
 ique de Noël à travers un programme musical riche et varié. Vous y déc
 ouvrirez des chants de Noël\, à la fois populaires et plus rares\, qui f
 eront résonner la magie de cette saison. Entre airs joyeux et festifs\, c
 es chants évoqueront des sentiments de tendresse\, de douceur et de lumi
 ère\, tout en mettant en valeur l’aspect sacré de Noël. Ce concert es
 t une belle occasion de se laisser emporter par l'émotion et la beauté d
 es mélodies de Noël.\n\n\n\n\n\n\n\n\n\n
ATTACH;FMTTYPE=image/jpeg:https://ensemblealauda.fr/blog/wp-content/upload
 s/2024/12/20241012_2033_2642-f094111-1.png
CATEGORIES:Concert
LOCATION:Église Saint-Jouin\, Place Saint-Jouin\, Mauléon\, Deux-Sèvres\
 , 79700\, Nouvelle Aquitaine\, France
X-APPLE-STRUCTURED-LOCATION;VALUE=URI;X-ADDRESS=Place Saint-Jouin\, Mauléo
 n\, Deux-Sèvres\, 79700\, Nouvelle Aquitaine\, France;X-APPLE-RADIUS=100;
 X-TITLE=Église Saint-Jouin:geo:0,0
END:VEVENT
BEGIN:VTIMEZONE
TZID:Europe/Paris
X-LIC-LOCATION:Europe/Paris
BEGIN:STANDARD
DTSTART:20241027T020000
TZOFFSETFROM:+0200
TZOFFSETTO:+0100
TZNAME:CET
END:STANDARD
END:VTIMEZONE
END:VCALENDAR