BEGIN:VCALENDAR
VERSION:2.0
PRODID:-//wp-events-plugin.com//7.2.3.1//EN
TZID:Europe/Paris
X-WR-TIMEZONE:Europe/ParisBEGIN:VCALENDAR
VERSION:2.0
PRODID:-//wp-events-plugin.com//7.2.3.1//EN
TZID:Europe/Paris
X-WR-TIMEZONE:Europe/Paris
BEGIN:VEVENT
UID:112@ensemblealauda.fr
DTSTART;TZID=Europe/Paris:20241206T180000
DTEND;TZID=Europe/Paris:20241206T190000
DTSTAMP:20241203T222946Z
URL:https://ensemblealauda.fr/events/concert-de-noel-apel-rorthais/
SUMMARY:Concert de Noël avec l'APEL de Rorthais
DESCRIPTION:Plongez-vous dans la magie de Noël en venant écouter l’ense
 mble Alauda puis les enfants de l'école Saint Louis de Rorthais.\nAu prog
 ramme : des chants de Noël\, connus et moins connus\, joyeux et festifs\
 , emprunts de merveilleux\, de tendresse\, de douceur\, de lumière \; ai
 nsi que quelques chants sacrés.\nEnsuite\, une retraite aux flambeaux nou
 s mènera vers la salle des fêtes.\n\n[caption id="attachment_12738" alig
 n="alignnone" width="525"] Fête de Noël[/caption]\n\n
ATTACH;FMTTYPE=image/jpeg:https://ensemblealauda.fr/blog/wp-content/upload
 s/2024/12/photo_1-scaled.jpeg
CATEGORIES:Concert
LOCATION:Église Saint Hilaire de Rorthais\, Place Saint Hilaire\, Rorthais
 \, Deux-Sèvres\, 79700\, Nouvelle Aquitaine\, France
X-APPLE-STRUCTURED-LOCATION;VALUE=URI;X-ADDRESS=Place Saint Hilaire\, Rorth
 ais\, Deux-Sèvres\, 79700\, Nouvelle Aquitaine\, France;X-APPLE-RADIUS=10
 0;X-TITLE=Église Saint Hilaire de Rorthais:geo:0,0
END:VEVENT
BEGIN:VTIMEZONE
TZID:Europe/Paris
X-LIC-LOCATION:Europe/Paris
BEGIN:STANDARD
DTSTART:20241027T020000
TZOFFSETFROM:+0200
TZOFFSETTO:+0100
TZNAME:CET
END:STANDARD
END:VTIMEZONE
END:VCALENDAR