BEGIN:VCALENDAR
VERSION:2.0
PRODID:-//wp-events-plugin.com//7.2.3.1//EN
TZID:Europe/Paris
X-WR-TIMEZONE:Europe/ParisBEGIN:VCALENDAR
VERSION:2.0
PRODID:-//wp-events-plugin.com//7.2.3.1//EN
TZID:Europe/Paris
X-WR-TIMEZONE:Europe/Paris
BEGIN:VEVENT
UID:90@ensemblealauda.fr
DTSTART;TZID=Europe/Paris:20231005T200000
DTEND;TZID=Europe/Paris:20231005T221500
DTSTAMP:20230922T164258Z
URL:https://ensemblealauda.fr/events/ag_2023/
SUMMARY:Assemblée générale 2023
DESCRIPTION:[su_gmap address="Espace St Jouin\, 79700 Mauléon"]
CATEGORIES:Répétition
LOCATION:Espace Saint Jouin\, Espace Saint Jouin\, Mauléon\, France
X-APPLE-STRUCTURED-LOCATION;VALUE=URI;X-ADDRESS=Espace Saint Jouin\, Maulé
 on\, France;X-APPLE-RADIUS=100;X-TITLE=Espace Saint Jouin:geo:0,0
END:VEVENT
BEGIN:VTIMEZONE
TZID:Europe/Paris
X-LIC-LOCATION:Europe/Paris
BEGIN:DAYLIGHT
DTSTART:20230326T030000
TZOFFSETFROM:+0100
TZOFFSETTO:+0200
TZNAME:CEST
END:DAYLIGHT
END:VTIMEZONE
END:VCALENDAR